BEGIN:VCALENDAR
VERSION:2.0
PRODID:-//Project Against Violent Encounters - ECPv6.15.20//NONSGML v1.0//EN
CALSCALE:GREGORIAN
METHOD:PUBLISH
X-WR-CALNAME:Project Against Violent Encounters
X-ORIGINAL-URL:https://pavebennington.org
X-WR-CALDESC:Events for Project Against Violent Encounters
REFRESH-INTERVAL;VALUE=DURATION:PT1H
X-Robots-Tag:noindex
X-PUBLISHED-TTL:PT1H
BEGIN:VTIMEZONE
TZID:America/New_York
BEGIN:DAYLIGHT
TZOFFSETFROM:-0500
TZOFFSETTO:-0400
TZNAME:EDT
DTSTART:20190310T070000
END:DAYLIGHT
BEGIN:STANDARD
TZOFFSETFROM:-0400
TZOFFSETTO:-0500
TZNAME:EST
DTSTART:20191103T060000
END:STANDARD
BEGIN:DAYLIGHT
TZOFFSETFROM:-0500
TZOFFSETTO:-0400
TZNAME:EDT
DTSTART:20200308T070000
END:DAYLIGHT
BEGIN:STANDARD
TZOFFSETFROM:-0400
TZOFFSETTO:-0500
TZNAME:EST
DTSTART:20201101T060000
END:STANDARD
BEGIN:DAYLIGHT
TZOFFSETFROM:-0500
TZOFFSETTO:-0400
TZNAME:EDT
DTSTART:20210314T070000
END:DAYLIGHT
BEGIN:STANDARD
TZOFFSETFROM:-0400
TZOFFSETTO:-0500
TZNAME:EST
DTSTART:20211107T060000
END:STANDARD
BEGIN:DAYLIGHT
TZOFFSETFROM:-0500
TZOFFSETTO:-0400
TZNAME:EDT
DTSTART:20220313T070000
END:DAYLIGHT
BEGIN:STANDARD
TZOFFSETFROM:-0400
TZOFFSETTO:-0500
TZNAME:EST
DTSTART:20221106T060000
END:STANDARD
BEGIN:DAYLIGHT
TZOFFSETFROM:-0500
TZOFFSETTO:-0400
TZNAME:EDT
DTSTART:20230312T070000
END:DAYLIGHT
BEGIN:STANDARD
TZOFFSETFROM:-0400
TZOFFSETTO:-0500
TZNAME:EST
DTSTART:20231105T060000
END:STANDARD
END:VTIMEZONE
BEGIN:VEVENT
DTSTART;TZID=America/New_York:20220525T153000
DTEND;TZID=America/New_York:20220525T163000
DTSTAMP:20260424T132927
CREATED:20220420T144645Z
LAST-MODIFIED:20220420T144650Z
UID:238217-1653492600-1653496200@pavebennington.org
SUMMARY:Next Steps: A Support Group for Survivors of Domestic & Sexual Violence
DESCRIPTION:
URL:https://pavebennington.org/event/next-steps-a-support-group-for-survivors-of-domestic-sexual-violence-6/
LOCATION:Mission City Church\, 416 Main Street\, Bennington\, Vermont\, 05201
END:VEVENT
BEGIN:VEVENT
DTSTART;TZID=America/New_York:20220518T153000
DTEND;TZID=America/New_York:20220518T163000
DTSTAMP:20260424T132927
CREATED:20220420T144239Z
LAST-MODIFIED:20220420T144445Z
UID:238214-1652887800-1652891400@pavebennington.org
SUMMARY:Next Steps: A Support Group for Survivors of Domestic & Sexual Violence
DESCRIPTION:
URL:https://pavebennington.org/event/next-steps-a-support-group-for-survivors-of-domestic-sexual-violence-5/
LOCATION:Mission City Church\, 416 Main Street\, Bennington\, Vermont\, 05201
END:VEVENT
BEGIN:VEVENT
DTSTART;TZID=America/New_York:20220511T153000
DTEND;TZID=America/New_York:20220511T163000
DTSTAMP:20260424T132927
CREATED:20220420T144014Z
LAST-MODIFIED:20220420T144019Z
UID:238212-1652283000-1652286600@pavebennington.org
SUMMARY:Next Steps: A Support Group for Survivors of Domestic & Sexual Violence
DESCRIPTION:
URL:https://pavebennington.org/event/next-steps-a-support-group-for-survivors-of-domestic-sexual-violence-4/
LOCATION:Mission City Church\, 416 Main Street\, Bennington\, Vermont\, 05201
END:VEVENT
BEGIN:VEVENT
DTSTART;TZID=America/New_York:20220504T153000
DTEND;TZID=America/New_York:20220504T163000
DTSTAMP:20260424T132927
CREATED:20220420T140124Z
LAST-MODIFIED:20220420T140733Z
UID:238205-1651678200-1651681800@pavebennington.org
SUMMARY:Next Steps: A Support Group for Survivors of Domestic & Sexual Violence
DESCRIPTION:
URL:https://pavebennington.org/event/next-steps-a-support-group-for-survivors-of-domestic-sexual-violence-3/
END:VEVENT
BEGIN:VEVENT
DTSTART;TZID=America/New_York:20220427T153000
DTEND;TZID=America/New_York:20220427T163000
DTSTAMP:20260424T132927
CREATED:20220420T135643Z
LAST-MODIFIED:20220420T140626Z
UID:238202-1651073400-1651077000@pavebennington.org
SUMMARY:Next Steps: A Support Group for Survivors of Domestic & Sexual Violence
DESCRIPTION:
URL:https://pavebennington.org/event/next-steps-a-support-group-for-survivors-of-domestic-sexual-violence-2/
LOCATION:Mission City Church\, 416 Main Street\, Bennington\, Vermont\, 05201
END:VEVENT
BEGIN:VEVENT
DTSTART;TZID=America/New_York:20220420T153000
DTEND;TZID=America/New_York:20220420T163000
DTSTAMP:20260424T132927
CREATED:20220420T134847Z
LAST-MODIFIED:20220420T142815Z
UID:238192-1650468600-1650472200@pavebennington.org
SUMMARY:Next Steps: A Support Group for Survivors of Domestic & Sexual Violence
DESCRIPTION:
URL:https://pavebennington.org/event/next-steps-a-support-group-for-survivors-of-domestic-sexual-violence/
LOCATION:Mission City Church\, 416 Main Street\, Bennington\, Vermont\, 05201
END:VEVENT
BEGIN:VEVENT
DTSTART;TZID=America/New_York:20220228T120000
DTEND;TZID=America/New_York:20220228T120000
DTSTAMP:20260424T132927
CREATED:20220201T153500Z
LAST-MODIFIED:20220211T153222Z
UID:238167-1646049600-1646049600@pavebennington.org
SUMMARY:Hearts on Main Street
DESCRIPTION:Support Pave and purchase a heart for $2 and tell us what love means to you! Find hearts at local businesses in Bennington and North Bennington.
URL:https://pavebennington.org/event/hearts-on-main-street/
END:VEVENT
BEGIN:VEVENT
DTSTART;TZID=America/New_York:20210214T080000
DTEND;TZID=America/New_York:20210214T170000
DTSTAMP:20260424T132927
CREATED:20210201T194541Z
LAST-MODIFIED:20210201T194542Z
UID:237899-1613289600-1613322000@pavebennington.org
SUMMARY:PAVE Galentine's Day Cards
DESCRIPTION:Valentine’s (or Galentine’s!) Day is just around the corner. Have you considered making an impact this Galentine’s Day by sending someone you care about an e-Card from PAVE? Your purchase would support survivors of domestic and/or sexual violence and send a message of empowerment to your chosen recipient. There’s even the option to personalize an additional message! To see the options and purchase\, visit http://bit.ly/2MMAD6J
URL:https://pavebennington.org/event/pave-galentines-day-cards/
END:VEVENT
BEGIN:VEVENT
DTSTART;TZID=America/New_York:20201010T120000
DTEND;TZID=America/New_York:20201010T120000
DTSTAMP:20260424T132927
CREATED:20201222T180209Z
LAST-MODIFIED:20201222T180544Z
UID:237650-1602331200-1602331200@pavebennington.org
SUMMARY:Purple Pumpkin Craft Kits
DESCRIPTION:Looking for something fun to do with the kids? We’ve got PURPLE pumpkins ready for your creative flair! Stop by the front of the PAVE office (behind D.B. McKenna) on Saturday\, October 10th to grab a free fun pumpkin decorating kit & treats! \n\n\n\n\nPurple Pumpkin Craft Kits Recap
URL:https://pavebennington.org/event/purple-pumpkin-craft-kits/
LOCATION:PAVE office
ATTACH;FMTTYPE=image/jpeg:https://pavebennington.org/wp-content/uploads/2020/12/pumpkins12.jpg
END:VEVENT
BEGIN:VEVENT
DTSTART;TZID=America/New_York:20200912T120000
DTEND;TZID=America/New_York:20200912T120000
DTSTAMP:20260424T132927
CREATED:20201222T180500Z
LAST-MODIFIED:20201222T180502Z
UID:237661-1599912000-1599912000@pavebennington.org
SUMMARY:Drive Thru Wellness Fair
DESCRIPTION:PAVE is excited to participate in this year’s annual Health & Wellness Fair! We’ll be one of several local organizations offering resources and giveaways. Mask up and drive through for more info from area resources!
URL:https://pavebennington.org/event/drive-thru-wellness-fair/
ATTACH;FMTTYPE=image/png:https://pavebennington.org/wp-content/uploads/2020/12/image14.png
END:VEVENT
END:VCALENDAR